BEGIN:VCALENDAR
VERSION:2.0
PRODID:-//dhtmlXScheduler//NONSGML v2.2//EN
X-WR-CALNAME:Wydarzenia
BEGIN:VEVENT
DTSTART:20170206T000000
DTEND:20170206T000000
UID:1
SUMMARY:Zwycięstwo po raz trzeci! UwB wygrywa konkurs na organizację Letniej Szkoły Języka i Kultury Polskiej. 
END:VEVENT
END:VCALENDAR