BEGIN:VCALENDAR
VERSION:2.0
PRODID:-//dhtmlXScheduler//NONSGML v2.2//EN
X-WR-CALNAME:Wydarzenia
BEGIN:VEVENT
DTSTART:20170921T000000
DTEND:20170921T000000
UID:1
SUMMARY:Zaproszenie do udziału w 24-tej konferencji izoprenoidowej na UwB w 2018 r. 
END:VEVENT
END:VCALENDAR