BEGIN:VCALENDAR
VERSION:2.0
PRODID:-//dhtmlXScheduler//NONSGML v2.2//EN
X-WR-CALNAME:Wydarzenia
BEGIN:VEVENT
DTSTART:20170713T000000
DTEND:20170713T000000
UID:1
SUMMARY:Z pasji do miodu. Uniwersyteckiego!
END:VEVENT
END:VCALENDAR