BEGIN:VCALENDAR
VERSION:2.0
PRODID:-//dhtmlXScheduler//NONSGML v2.2//EN
X-WR-CALNAME:Wydarzenia
BEGIN:VEVENT
DTSTART:20160615T000000
DTEND:20160615T000000
UID:1
SUMMARY:XIII Forum Zaawansowanych Studiów nad Stanami Zjednoczonymi im. Profesora Andrzeja Bartnickiego
END:VEVENT
END:VCALENDAR