BEGIN:VCALENDAR
VERSION:2.0
PRODID:-//dhtmlXScheduler//NONSGML v2.2//EN
X-WR-CALNAME:Wydarzenia
BEGIN:VEVENT
DTSTART:20151126T000000
DTEND:20151126T000000
UID:1
SUMMARY:Wyróżnienie dla projektu mgr Anny Tokarzewicz z Instytutu Chemii UwB
END:VEVENT
END:VCALENDAR