BEGIN:VCALENDAR
VERSION:2.0
PRODID:-//dhtmlXScheduler//NONSGML v2.2//EN
X-WR-CALNAME:Wydarzenia
BEGIN:VEVENT
DTSTART:20160830T000000
DTEND:20160830T000000
UID:1
SUMMARY:Wykład otwarty w ramach projektu Polonium w Instytucie Chemii
END:VEVENT
END:VCALENDAR