BEGIN:VCALENDAR
VERSION:2.0
PRODID:-//dhtmlXScheduler//NONSGML v2.2//EN
X-WR-CALNAME:Wydarzenia
BEGIN:VEVENT
DTSTART:20180213T000000
DTEND:20180213T000000
UID:1
SUMMARY:Wydział Ekonomiczno-Informatyczny w Wilnie na Międzynarodowych Targach Studijos 2018
END:VEVENT
END:VCALENDAR