BEGIN:VCALENDAR
VERSION:2.0
PRODID:-//dhtmlXScheduler//NONSGML v2.2//EN
X-WR-CALNAME:Wydarzenia
BEGIN:VEVENT
DTSTART:20170922T000000
DTEND:20170922T000000
UID:1
SUMMARY:Wszystko, co chcielibyście wiedzieć o patentach - najważniejsze informacje
END:VEVENT
END:VCALENDAR