BEGIN:VCALENDAR
VERSION:2.0
PRODID:-//dhtmlXScheduler//NONSGML v2.2//EN
X-WR-CALNAME:Wydarzenia
BEGIN:VEVENT
DTSTART:20170912T000000
DTEND:20170912T000000
UID:1
SUMMARY:Wszystko, co chciałbyś wiedzieć o zdobywaniu patentów - zapraszamy na spotkanie z ekspertami 
END:VEVENT
END:VCALENDAR