BEGIN:VCALENDAR
VERSION:2.0
PRODID:-//dhtmlXScheduler//NONSGML v2.2//EN
X-WR-CALNAME:Wydarzenia
BEGIN:VEVENT
DTSTART:20170707T000000
DTEND:20170707T000000
UID:1
SUMMARY:Warsztaty rodzinne wokół słuchowiska Maliny Prześlugi - "Bleee".
END:VEVENT
END:VCALENDAR