BEGIN:VCALENDAR
VERSION:2.0
PRODID:-//dhtmlXScheduler//NONSGML v2.2//EN
X-WR-CALNAME:Wydarzenia
BEGIN:VEVENT
DTSTART:20190322T000000
DTEND:20190322T000000
UID:1
SUMMARY:Warsztaty finansowe dotyczące programu Horyzont 2020
END:VEVENT
END:VCALENDAR