BEGIN:VCALENDAR
VERSION:2.0
PRODID:-//dhtmlXScheduler//NONSGML v2.2//EN
X-WR-CALNAME:Wydarzenia
BEGIN:VEVENT
DTSTART:20170403T000000
DTEND:20170403T000000
UID:1
SUMMARY:W trosce o Człowieka - konferencja w ramach Ogólnopolskiego Tygodnia Pracy Socjalnej
END:VEVENT
END:VCALENDAR