BEGIN:VCALENDAR
VERSION:2.0
PRODID:-//dhtmlXScheduler//NONSGML v2.2//EN
X-WR-CALNAME:Wydarzenia
BEGIN:VEVENT
DTSTART:20161005T000000
DTEND:20161005T000000
UID:1
SUMMARY:Virtual and remote laboratories as a mean to provide experimentation activities in distance and blended learning scenarios
END:VEVENT
END:VCALENDAR