BEGIN:VCALENDAR
VERSION:2.0
PRODID:-//dhtmlXScheduler//NONSGML v2.2//EN
X-WR-CALNAME:Wydarzenia
BEGIN:VEVENT
DTSTART:20161109T000000
DTEND:20161109T000000
UID:1
SUMMARY:UwB w międzynarodowym projekcie 
wspierającym uczelnie na Białorusi

END:VEVENT
END:VCALENDAR