BEGIN:VCALENDAR
VERSION:2.0
PRODID:-//dhtmlXScheduler//NONSGML v2.2//EN
X-WR-CALNAME:Wydarzenia
BEGIN:VEVENT
DTSTART:20180427T000000
DTEND:20180427T000000
UID:1
SUMMARY:Uniwersytet w Białymstoku wyróżniony 
przez Fundację Szansa dla Niewidomych
END:VEVENT
END:VCALENDAR