BEGIN:VCALENDAR
VERSION:2.0
PRODID:-//dhtmlXScheduler//NONSGML v2.2//EN
X-WR-CALNAME:Wydarzenia
BEGIN:VEVENT
DTSTART:20160616T000000
DTEND:20160616T000000
UID:1
SUMMARY:Uniwersytet w Białymstoku partnerem Festiwalu „Zachor – Kolor i Dźwięk”
END:VEVENT
END:VCALENDAR