BEGIN:VCALENDAR
VERSION:2.0
PRODID:-//dhtmlXScheduler//NONSGML v2.2//EN
X-WR-CALNAME:Wydarzenia
BEGIN:VEVENT
DTSTART:20170704T000000
DTEND:20170704T000000
UID:1
SUMMARY:Uniwersytet w Białymstoku  ma swoje logo! Konkurs wygrała Katarzyna Worpus-Wrońska z Łodzi
END:VEVENT
END:VCALENDAR