BEGIN:VCALENDAR
VERSION:2.0
PRODID:-//dhtmlXScheduler//NONSGML v2.2//EN
X-WR-CALNAME:Wydarzenia
BEGIN:VEVENT
DTSTART:20180622T000000
DTEND:20180622T000000
UID:1
SUMMARY:Uczniowie białostockich szkół poznawali filozofię 
pod okiem wykładowców z Uniwersytetu w Białymstoku

END:VEVENT
END:VCALENDAR