BEGIN:VCALENDAR
VERSION:2.0
PRODID:-//dhtmlXScheduler//NONSGML v2.2//EN
X-WR-CALNAME:Wydarzenia
BEGIN:VEVENT
DTSTART:20170626T000000
DTEND:20170626T000000
UID:1
SUMMARY:UCK zaprasza na spektakl kanadyjskiego Teatru Selfconscious - wstęp wolny!
END:VEVENT
END:VCALENDAR