BEGIN:VCALENDAR
VERSION:2.0
PRODID:-//dhtmlXScheduler//NONSGML v2.2//EN
X-WR-CALNAME:Wydarzenia
BEGIN:VEVENT
DTSTART:20170424T000000
DTEND:20170424T000000
UID:1
SUMMARY:Trzy rady nie tylko dla filologów, czyli Dzień Otwarty Wydziału Filologicznego
END:VEVENT
END:VCALENDAR