BEGIN:VCALENDAR
VERSION:2.0
PRODID:-//dhtmlXScheduler//NONSGML v2.2//EN
X-WR-CALNAME:Wydarzenia
BEGIN:VEVENT
DTSTART:20160926T000000
DTEND:20160926T000000
UID:1
SUMMARY:Teoria ewolucji w badaniach biologicznych
END:VEVENT
END:VCALENDAR