BEGIN:VCALENDAR
VERSION:2.0
PRODID:-//dhtmlXScheduler//NONSGML v2.2//EN
X-WR-CALNAME:Wydarzenia
BEGIN:VEVENT
DTSTART:20160127T000000
DTEND:20160127T000000
UID:1
SUMMARY:Suweren, konstytucja i prawo
– jak w demokracji współczesnej realizowana jest wola ludu?
END:VEVENT
END:VCALENDAR