BEGIN:VCALENDAR
VERSION:2.0
PRODID:-//dhtmlXScheduler//NONSGML v2.2//EN
X-WR-CALNAME:Wydarzenia
BEGIN:VEVENT
DTSTART:20180202T000000
DTEND:20180202T000000
UID:1
SUMMARY:Sukces młodych naukowców z Koła Naukowego Biologów
END:VEVENT
END:VCALENDAR