BEGIN:VCALENDAR
VERSION:2.0
PRODID:-//dhtmlXScheduler//NONSGML v2.2//EN
X-WR-CALNAME:Wydarzenia
BEGIN:VEVENT
DTSTART:20190625T000000
DTEND:20190625T000000
UID:1
SUMMARY:Stulecie polsko-amerykańskich stosunków dyplomatycznych tematem przewodnim naukowej konferencji na UwB

END:VEVENT
END:VCALENDAR