BEGIN:VCALENDAR
VERSION:2.0
PRODID:-//dhtmlXScheduler//NONSGML v2.2//EN
X-WR-CALNAME:Wydarzenia
BEGIN:VEVENT
DTSTART:20170213T000000
DTEND:20170213T000000
UID:1
SUMMARY:Studiuj po polsku - ale na Litwie! Targi edukacyjne w Wilnie.
END:VEVENT
END:VCALENDAR