BEGIN:VCALENDAR
VERSION:2.0
PRODID:-//dhtmlXScheduler//NONSGML v2.2//EN
X-WR-CALNAME:Wydarzenia
BEGIN:VEVENT
DTSTART:20160412T000000
DTEND:20160412T000000
UID:1
SUMMARY:Studencie, OPERA NIE GRYZIE! Przekonaj się sam.
END:VEVENT
END:VCALENDAR