BEGIN:VCALENDAR
VERSION:2.0
PRODID:-//dhtmlXScheduler//NONSGML v2.2//EN
X-WR-CALNAME:Wydarzenia
BEGIN:VEVENT
DTSTART:20161219T000000
DTEND:20161219T000000
UID:1
SUMMARY:Studenci z Erasmus+ na polskiej kolacji wigilijnej 
END:VEVENT
END:VCALENDAR