BEGIN:VCALENDAR
VERSION:2.0
PRODID:-//dhtmlXScheduler//NONSGML v2.2//EN
X-WR-CALNAME:Wydarzenia
BEGIN:VEVENT
DTSTART:20151026T000000
DTEND:20151026T000000
UID:1
SUMMARY:Studenci UwB zwyciężyli w konkursie "A dlaczego Białystok"
END:VEVENT
END:VCALENDAR