BEGIN:VCALENDAR
VERSION:2.0
PRODID:-//dhtmlXScheduler//NONSGML v2.2//EN
X-WR-CALNAME:Wydarzenia
BEGIN:VEVENT
DTSTART:20161215T000000
DTEND:20161215T000000
UID:1
SUMMARY:Spełniamy marzenie Szymona!  Charytatywny Turniej Piłki Nożnej na UwB
END:VEVENT
END:VCALENDAR