BEGIN:VCALENDAR
VERSION:2.0
PRODID:-//dhtmlXScheduler//NONSGML v2.2//EN
X-WR-CALNAME:Wydarzenia
BEGIN:VEVENT
DTSTART:20180927T000000
DTEND:20180927T000000
UID:1
SUMMARY:Ruszają zapisy do I edycji projektu „Start-Up Academy”
END:VEVENT
END:VCALENDAR