BEGIN:VCALENDAR
VERSION:2.0
PRODID:-//dhtmlXScheduler//NONSGML v2.2//EN
X-WR-CALNAME:Wydarzenia
BEGIN:VEVENT
DTSTART:20170914T000000
DTEND:20170914T000000
UID:1
SUMMARY:Rusza Akademia Młodego Badacza - rekrutacja już od 18 września
END:VEVENT
END:VCALENDAR