BEGIN:VCALENDAR
VERSION:2.0
PRODID:-//dhtmlXScheduler//NONSGML v2.2//EN
X-WR-CALNAME:Wydarzenia
BEGIN:VEVENT
DTSTART:20160127T000000
DTEND:20160127T000000
UID:1
SUMMARY:Religioznawstwo i bezpieczeństwo informacji.
Kolejne nowości w ofercie Uniwersytetu w Białymstoku
END:VEVENT
END:VCALENDAR