BEGIN:VCALENDAR
VERSION:2.0
PRODID:-//dhtmlXScheduler//NONSGML v2.2//EN
X-WR-CALNAME:Wydarzenia
BEGIN:VEVENT
DTSTART:20170908T000000
DTEND:20170908T000000
UID:1
SUMMARY:Rekrutacja uzupełniająca do projektu "Kuźnia kompetencji" dla studentów - dołącz do najlepszych! 
END:VEVENT
END:VCALENDAR