BEGIN:VCALENDAR
VERSION:2.0
PRODID:-//dhtmlXScheduler//NONSGML v2.2//EN
X-WR-CALNAME:Wydarzenia
BEGIN:VEVENT
DTSTART:20180425T000000
DTEND:20180425T000000
UID:1
SUMMARY:Prof. Jerzy Nikitorowicz: Potrzebujemy psychologicznej stabilizacji. Także jako społeczeństwo  
END:VEVENT
END:VCALENDAR