BEGIN:VCALENDAR
VERSION:2.0
PRODID:-//dhtmlXScheduler//NONSGML v2.2//EN
X-WR-CALNAME:Wydarzenia
BEGIN:VEVENT
DTSTART:20170512T000000
DTEND:20170512T000000
UID:1
SUMMARY:Prawdziwe święto czytelnictwa podczas Dnia Książki Akademickiej i Naukowej
END:VEVENT
END:VCALENDAR