BEGIN:VCALENDAR
VERSION:2.0
PRODID:-//dhtmlXScheduler//NONSGML v2.2//EN
X-WR-CALNAME:Wydarzenia
BEGIN:VEVENT
DTSTART:20161122T000000
DTEND:20161122T000000
UID:1
SUMMARY:Ponad 6 mln zł z NCBiR dla Uniwersytetu w Białymstoku!
END:VEVENT
END:VCALENDAR