BEGIN:VCALENDAR
VERSION:2.0
PRODID:-//dhtmlXScheduler//NONSGML v2.2//EN
X-WR-CALNAME:Wydarzenia
BEGIN:VEVENT
DTSTART:20170718T000000
DTEND:20170718T000000
UID:1
SUMMARY:Polskie tradycje niepodległościowe. Zaproszenie na konferencję
END:VEVENT
END:VCALENDAR