BEGIN:VCALENDAR
VERSION:2.0
PRODID:-//dhtmlXScheduler//NONSGML v2.2//EN
X-WR-CALNAME:Wydarzenia
BEGIN:VEVENT
DTSTART:20161213T000000
DTEND:20161213T000000
UID:1
SUMMARY:Podlaska Biblioteka Cyfrowa ma już 10 lat. 
END:VEVENT
END:VCALENDAR