BEGIN:VCALENDAR
VERSION:2.0
PRODID:-//dhtmlXScheduler//NONSGML v2.2//EN
X-WR-CALNAME:Wydarzenia
BEGIN:VEVENT
DTSTART:20171201T000000
DTEND:20171201T000000
UID:1
SUMMARY:Podlasianin idzie do teatru - wykład otwarty nt. badań dotyczących partycypacji Podlasian w kulturze. Zapraszamy! 
END:VEVENT
END:VCALENDAR