BEGIN:VCALENDAR
VERSION:2.0
PRODID:-//dhtmlXScheduler//NONSGML v2.2//EN
X-WR-CALNAME:Wydarzenia
BEGIN:VEVENT
DTSTART:20161216T000000
DTEND:20161216T000000
UID:1
SUMMARY:Od kilku lat przekonuje studentów: - Nie bądź szarą masą! 
END:VEVENT
END:VCALENDAR