BEGIN:VCALENDAR
VERSION:2.0
PRODID:-//dhtmlXScheduler//NONSGML v2.2//EN
X-WR-CALNAME:Wydarzenia
BEGIN:VEVENT
DTSTART:20151105T000000
DTEND:20151105T000000
UID:1
SUMMARY:Obsługa celna, giełda, PR
– nowe kursy w ofercie Uniwersytetu Otwartego UwB
END:VEVENT
END:VCALENDAR