BEGIN:VCALENDAR
VERSION:2.0
PRODID:-//dhtmlXScheduler//NONSGML v2.2//EN
X-WR-CALNAME:Wydarzenia
BEGIN:VEVENT
DTSTART:20170831T000000
DTEND:20170831T000000
UID:1
SUMMARY:Nowości w ofercie studiów podyplomowych na Uniwersytecie w Białymstoku

END:VEVENT
END:VCALENDAR