BEGIN:VCALENDAR
VERSION:2.0
PRODID:-//dhtmlXScheduler//NONSGML v2.2//EN
X-WR-CALNAME:Wydarzenia
BEGIN:VEVENT
DTSTART:20190610T000000
DTEND:20190610T000000
UID:1
SUMMARY:Nowa ewaluacja&nbsp;dyscyplin - wykład prof. Błażeja Skocznia - przewodniczącego KEN
END:VEVENT
END:VCALENDAR