BEGIN:VCALENDAR
VERSION:2.0
PRODID:-//dhtmlXScheduler//NONSGML v2.2//EN
X-WR-CALNAME:Wydarzenia
BEGIN:VEVENT
DTSTART:20190322T000000
DTEND:20190322T000000
UID:1
SUMMARY:NARZECZEŃSTWO – początek wieczności czy koniec wolności?
END:VEVENT
END:VCALENDAR