BEGIN:VCALENDAR
VERSION:2.0
PRODID:-//dhtmlXScheduler//NONSGML v2.2//EN
X-WR-CALNAME:Wydarzenia
BEGIN:VEVENT
DTSTART:20170222T000000
DTEND:20170222T000000
UID:1
SUMMARY:„Nagroda  Nobla  z  fizyki  2016” - konwersatorium
END:VEVENT
END:VCALENDAR