BEGIN:VCALENDAR
VERSION:2.0
PRODID:-//dhtmlXScheduler//NONSGML v2.2//EN
X-WR-CALNAME:Wydarzenia
BEGIN:VEVENT
DTSTART:20161004T000000
DTEND:20161004T000000
UID:1
SUMMARY:Myślę "Rio" i się uśmiecham - sylwetka Marii Andrejczyk, studentki UwB 
END:VEVENT
END:VCALENDAR