BEGIN:VCALENDAR
VERSION:2.0
PRODID:-//dhtmlXScheduler//NONSGML v2.2//EN
X-WR-CALNAME:Wydarzenia
BEGIN:VEVENT
DTSTART:20151116T000000
DTEND:20151116T000000
UID:1
SUMMARY:Mgr Anna Tokarzewicz z Instytutu Chemii UwB w finale konkursu Technotalent 2015
END:VEVENT
END:VCALENDAR