BEGIN:VCALENDAR
VERSION:2.0
PRODID:-//dhtmlXScheduler//NONSGML v2.2//EN
X-WR-CALNAME:Wydarzenia
BEGIN:VEVENT
DTSTART:20180412T000000
DTEND:20180412T000000
UID:1
SUMMARY:Medal Młodego Uczonego dla dr. Krzysztofa Szerenosa
END:VEVENT
END:VCALENDAR