BEGIN:VCALENDAR
VERSION:2.0
PRODID:-//dhtmlXScheduler//NONSGML v2.2//EN
X-WR-CALNAME:Wydarzenia
BEGIN:VEVENT
DTSTART:20180518T000000
DTEND:20180518T000000
UID:1
SUMMARY:„Ktokolwiek widział, ktokolwiek wie…” – wykład otwarty o reportażu społecznym i śledczym
END:VEVENT
END:VCALENDAR