BEGIN:VCALENDAR
VERSION:2.0
PRODID:-//dhtmlXScheduler//NONSGML v2.2//EN
X-WR-CALNAME:Wydarzenia
BEGIN:VEVENT
DTSTART:20171026T000000
DTEND:20171026T000000
UID:1
SUMMARY:„Kreatywność, wiedza, rozwój” - warsztaty szkolne podczas "Spotkań u chemików"
END:VEVENT
END:VCALENDAR